Package: SigsPack Version: 1.25.0 Command: /home/biocbuild/bbs-3.23-bioc/R/bin/R CMD build --keep-empty-dirs --no-resave-data SigsPack StartedAt: 2025-10-31 20:12:15 -0400 (Fri, 31 Oct 2025) EndedAt: 2025-10-31 20:13:47 -0400 (Fri, 31 Oct 2025) EllapsedTime: 92.1 seconds RetCode: 0 Status: OK PackageFile: SigsPack_1.25.0.tar.gz PackageFileSize: 514 KiB