Package: SigsPack Version: 1.23.0 Command: /Library/Frameworks/R.framework/Resources/bin/R CMD INSTALL SigsPack StartedAt: 2025-10-15 15:22:52 -0400 (Wed, 15 Oct 2025) EndedAt: 2025-10-15 15:22:53 -0400 (Wed, 15 Oct 2025) EllapsedTime: 1.2 seconds RetCode: 0 Status: OK