Package: SigsPack Version: 1.23.0 Command: /Library/Frameworks/R.framework/Resources/bin/R CMD build --keep-empty-dirs --no-resave-data SigsPack StartedAt: 2025-10-16 17:57:24 -0400 (Thu, 16 Oct 2025) EndedAt: 2025-10-16 17:58:11 -0400 (Thu, 16 Oct 2025) EllapsedTime: 47.5 seconds RetCode: 0 Status: OK PackageFile: SigsPack_1.23.0.tar.gz PackageFileSize: 523.5 KiB