Package: SigsPack Version: 1.23.0 Command: rm -rf SigsPack.buildbin-libdir && mkdir SigsPack.buildbin-libdir && /Users/biocbuild/BBS/utils/build-universal.sh SigsPack_1.23.0.tar.gz /Library/Frameworks/R.framework/Resources/bin/R SigsPack.buildbin-libdir StartedAt: 2025-10-15 23:02:48 -0400 (Wed, 15 Oct 2025) EndedAt: 2025-10-15 23:02:50 -0400 (Wed, 15 Oct 2025) EllapsedTime: 2.1 seconds RetCode: 0 Status: OK PackageFile: SigsPack_1.23.0.tgz PackageFileSize: 542.9 KiB