Package: SigsPack Version: 1.25.0 Maintainer: Franziska Schumann MaintainerEmail: franziska.schumann at student.hpi.de git_url: https://git.bioconductor.org/packages/SigsPack git_branch: devel git_last_commit: 76511e2 git_last_commit_date: 2025-10-29 10:53:42 -0400 (Wed, 29 Oct 2025)