Package: SigFuge Version: 1.49.0 Command: /home/biocbuild/bbs-3.23-bioc/R/bin/R CMD INSTALL SigFuge StartedAt: 2025-11-23 15:32:13 -0500 (Sun, 23 Nov 2025) EndedAt: 2025-11-23 15:32:24 -0500 (Sun, 23 Nov 2025) EllapsedTime: 11.1 seconds RetCode: 0 Status: OK