Package: SigFuge Version: 1.49.0 Command: /home/biocbuild/bbs-3.23-bioc/R/bin/R CMD build --keep-empty-dirs --no-resave-data SigFuge StartedAt: 2025-11-23 20:03:23 -0500 (Sun, 23 Nov 2025) EndedAt: 2025-11-23 20:04:01 -0500 (Sun, 23 Nov 2025) EllapsedTime: 38.0 seconds RetCode: 1 Status: ERROR PackageFile: None PackageFileSize: NA