Package: SigCheck Version: 2.41.0 Command: /home/biocbuild/R/R/bin/R CMD INSTALL SigCheck StartedAt: 2025-10-23 20:49:37 -0000 (Thu, 23 Oct 2025) EndedAt: 2025-10-23 20:50:16 -0000 (Thu, 23 Oct 2025) EllapsedTime: 39.0 seconds RetCode: 0 Status: OK