Package: SigCheck Version: 2.41.0 Command: /home/biocbuild/R/R/bin/R CMD build --keep-empty-dirs --no-resave-data SigCheck StartedAt: 2025-10-21 03:09:39 -0000 (Tue, 21 Oct 2025) EndedAt: 2025-10-21 03:10:53 -0000 (Tue, 21 Oct 2025) EllapsedTime: 74.0 seconds RetCode: 0 Status: OK PackageFile: SigCheck_2.41.0.tar.gz PackageFileSize: 360.3 KiB