Package: SigCheck Version: 2.43.0 Command: /home/biocbuild/bbs-3.23-bioc/R/bin/R CMD INSTALL SigCheck StartedAt: 2025-11-07 15:29:46 -0500 (Fri, 07 Nov 2025) EndedAt: 2025-11-07 15:30:15 -0500 (Fri, 07 Nov 2025) EllapsedTime: 29.3 seconds RetCode: 0 Status: OK