Package: SigCheck Version: 2.43.0 Command: /home/biocbuild/bbs-3.23-bioc/R/bin/R CMD check --install=check:SigCheck.install-out.txt --library=/home/biocbuild/bbs-3.23-bioc/R/site-library --timings SigCheck_2.43.0.tar.gz StartedAt: 2025-11-22 03:59:04 -0500 (Sat, 22 Nov 2025) EndedAt: 2025-11-22 04:06:52 -0500 (Sat, 22 Nov 2025) EllapsedTime: 467.6 seconds RetCode: 0 Status: OK CheckDir: SigCheck.Rcheck Warnings: 0