Package: SigCheck Version: 2.43.0 Command: /home/biocbuild/bbs-3.23-bioc/R/bin/R CMD build --keep-empty-dirs --no-resave-data SigCheck StartedAt: 2025-11-07 20:00:45 -0500 (Fri, 07 Nov 2025) EndedAt: 2025-11-07 20:01:44 -0500 (Fri, 07 Nov 2025) EllapsedTime: 59.1 seconds RetCode: 0 Status: OK PackageFile: SigCheck_2.43.0.tar.gz PackageFileSize: 369.5 KiB