Package: SiPSiC Version: 1.11.0 Command: /home/biocbuild/bbs-3.23-bioc/R/bin/R CMD INSTALL SiPSiC StartedAt: 2025-11-02 15:27:30 -0500 (Sun, 02 Nov 2025) EndedAt: 2025-11-02 15:27:52 -0500 (Sun, 02 Nov 2025) EllapsedTime: 22.5 seconds RetCode: 0 Status: OK