Package: SiPSiC Version: 1.11.0 Command: /home/biocbuild/bbs-3.23-bioc/R/bin/R CMD build --keep-empty-dirs --no-resave-data SiPSiC StartedAt: 2025-11-02 20:00:08 -0500 (Sun, 02 Nov 2025) EndedAt: 2025-11-02 20:00:41 -0500 (Sun, 02 Nov 2025) EllapsedTime: 33.0 seconds RetCode: 0 Status: OK PackageFile: SiPSiC_1.11.0.tar.gz PackageFileSize: 237 KiB