Package: SiPSiC Version: 1.9.0 Command: /Library/Frameworks/R.framework/Resources/bin/R CMD INSTALL SiPSiC StartedAt: 2025-10-15 15:22:40 -0400 (Wed, 15 Oct 2025) EndedAt: 2025-10-15 15:23:12 -0400 (Wed, 15 Oct 2025) EllapsedTime: 31.8 seconds RetCode: 0 Status: OK