Package: SiPSiC Version: 1.9.0 Command: /Library/Frameworks/R.framework/Resources/bin/R CMD build --keep-empty-dirs --no-resave-data SiPSiC StartedAt: 2025-10-15 19:29:54 -0400 (Wed, 15 Oct 2025) EndedAt: 2025-10-15 19:30:41 -0400 (Wed, 15 Oct 2025) EllapsedTime: 46.9 seconds RetCode: 0 Status: OK PackageFile: SiPSiC_1.9.0.tar.gz PackageFileSize: 236.7 KiB