Package: SiPSiC Version: 1.9.0 Command: rm -rf SiPSiC.buildbin-libdir && mkdir SiPSiC.buildbin-libdir && /Users/biocbuild/BBS/utils/build-universal.sh SiPSiC_1.9.0.tar.gz /Library/Frameworks/R.framework/Resources/bin/R SiPSiC.buildbin-libdir StartedAt: 2025-10-16 03:18:33 -0400 (Thu, 16 Oct 2025) EndedAt: 2025-10-16 03:19:08 -0400 (Thu, 16 Oct 2025) EllapsedTime: 34.7 seconds RetCode: 0 Status: OK PackageFile: SiPSiC_1.9.0.tgz PackageFileSize: 247 KiB