Package: SiPSiC Version: 1.9.0 Command: /Library/Frameworks/R.framework/Resources/bin/R CMD INSTALL SiPSiC StartedAt: 2025-09-29 15:12:59 -0400 (Mon, 29 Sep 2025) EndedAt: 2025-09-29 15:13:09 -0400 (Mon, 29 Sep 2025) EllapsedTime: 9.7 seconds RetCode: 0 Status: OK