Package: SiPSiC Version: 1.9.0 Command: /Library/Frameworks/R.framework/Resources/bin/R CMD build --keep-empty-dirs --no-resave-data SiPSiC StartedAt: 2025-09-29 17:43:54 -0400 (Mon, 29 Sep 2025) EndedAt: 2025-09-29 17:44:10 -0400 (Mon, 29 Sep 2025) EllapsedTime: 16.2 seconds RetCode: 0 Status: OK PackageFile: SiPSiC_1.9.0.tar.gz PackageFileSize: 236.7 KiB