Package: ShortRead Version: 1.69.2 Command: /home/biocbuild/bbs-3.23-bioc/R/bin/R CMD INSTALL ShortRead StartedAt: 2025-11-06 15:49:53 -0500 (Thu, 06 Nov 2025) EndedAt: 2025-11-06 15:50:41 -0500 (Thu, 06 Nov 2025) EllapsedTime: 48.3 seconds RetCode: 0 Status: OK