Package: ShortRead Version: 1.69.2 Command: /home/biocbuild/bbs-3.23-bioc/R/bin/R CMD build --keep-empty-dirs --no-resave-data ShortRead StartedAt: 2025-11-05 20:04:33 -0500 (Wed, 05 Nov 2025) EndedAt: 2025-11-05 20:05:38 -0500 (Wed, 05 Nov 2025) EllapsedTime: 65.1 seconds RetCode: 0 Status: OK PackageFile: ShortRead_1.69.2.tar.gz PackageFileSize: 5.06 MiB