Package: ShortRead Version: 1.67.1 Command: /Library/Frameworks/R.framework/Resources/bin/R CMD INSTALL ShortRead StartedAt: 2025-10-24 15:48:56 -0400 (Fri, 24 Oct 2025) EndedAt: 2025-10-24 15:50:12 -0400 (Fri, 24 Oct 2025) EllapsedTime: 75.9 seconds RetCode: 0 Status: OK