Package: ShortRead Version: 1.67.1 Command: /Library/Frameworks/R.framework/Resources/bin/R CMD INSTALL ShortRead StartedAt: 2025-10-12 15:26:25 -0400 (Sun, 12 Oct 2025) EndedAt: 2025-10-12 15:26:46 -0400 (Sun, 12 Oct 2025) EllapsedTime: 20.8 seconds RetCode: 0 Status: OK