Package: ShortRead Version: 1.67.1 Command: /Library/Frameworks/R.framework/Resources/bin/R CMD build --keep-empty-dirs --no-resave-data ShortRead StartedAt: 2025-10-12 17:41:06 -0400 (Sun, 12 Oct 2025) EndedAt: 2025-10-12 17:41:36 -0400 (Sun, 12 Oct 2025) EllapsedTime: 30.3 seconds RetCode: 0 Status: OK PackageFile: ShortRead_1.67.1.tar.gz PackageFileSize: 5.06 MiB