Package: ShortRead Version: 1.67.1 Command: rm -rf ShortRead.buildbin-libdir && mkdir ShortRead.buildbin-libdir && /Users/biocbuild/BBS/utils/build-universal.sh ShortRead_1.67.1.tar.gz /Library/Frameworks/R.framework/Resources/bin/R ShortRead.buildbin-libdir StartedAt: 2025-10-12 22:53:50 -0400 (Sun, 12 Oct 2025) EndedAt: 2025-10-12 22:54:13 -0400 (Sun, 12 Oct 2025) EllapsedTime: 23.5 seconds RetCode: 0 Status: OK PackageFile: ShortRead_1.67.1.tgz PackageFileSize: 5.494 MiB