Package: SharedObject Version: 1.23.0 Command: /home/biocbuild/R/R/bin/R CMD check --install=check:SharedObject.install-out.txt --library=/home/biocbuild/R/R/site-library --no-vignettes --timings SharedObject_1.23.0.tar.gz StartedAt: 2025-10-17 13:37:40 -0000 (Fri, 17 Oct 2025) EndedAt: 2025-10-17 13:39:21 -0000 (Fri, 17 Oct 2025) EllapsedTime: 101.1 seconds RetCode: 0 Status: WARNINGS CheckDir: SharedObject.Rcheck Warnings: 2