Package: SharedObject Version: 1.25.0 Command: /home/biocbuild/bbs-3.23-bioc/R/bin/R CMD check --install=check:SharedObject.install-out.txt --library=/home/biocbuild/bbs-3.23-bioc/R/site-library --timings SharedObject_1.25.0.tar.gz StartedAt: 2025-11-11 03:55:55 -0500 (Tue, 11 Nov 2025) EndedAt: 2025-11-11 03:57:20 -0500 (Tue, 11 Nov 2025) EllapsedTime: 85.1 seconds RetCode: 0 Status: WARNINGS CheckDir: SharedObject.Rcheck Warnings: 1