Package: SharedObject Version: 1.23.0 Command: /Library/Frameworks/R.framework/Resources/bin/R CMD check --install=check:SharedObject.install-out.txt --library=/Library/Frameworks/R.framework/Resources/library --no-vignettes --timings SharedObject_1.23.0.tar.gz StartedAt: 2025-10-09 01:07:17 -0400 (Thu, 09 Oct 2025) EndedAt: 2025-10-09 01:08:51 -0400 (Thu, 09 Oct 2025) EllapsedTime: 94.1 seconds RetCode: 0 Status: WARNINGS CheckDir: SharedObject.Rcheck Warnings: 2