Package: Seqinfo Version: 1.1.0 Command: /home/biocbuild/bbs-3.23-bioc/R/bin/R CMD INSTALL Seqinfo StartedAt: 2025-11-20 15:13:48 -0500 (Thu, 20 Nov 2025) EndedAt: 2025-11-20 15:13:59 -0500 (Thu, 20 Nov 2025) EllapsedTime: 10.8 seconds RetCode: 0 Status: OK