Package: Seqinfo Version: 0.99.3 Command: rm -rf Seqinfo.buildbin-libdir && mkdir Seqinfo.buildbin-libdir && /Users/biocbuild/BBS/utils/build-universal.sh Seqinfo_0.99.3.tar.gz /Library/Frameworks/R.framework/Resources/bin/R Seqinfo.buildbin-libdir StartedAt: 2025-10-25 02:03:58 -0400 (Sat, 25 Oct 2025) EndedAt: 2025-10-25 02:04:14 -0400 (Sat, 25 Oct 2025) EllapsedTime: 16.0 seconds RetCode: 0 Status: OK PackageFile: Seqinfo_0.99.3.tgz PackageFileSize: 626.4 KiB