Package: Seqinfo Version: 0.99.2 Command: /Library/Frameworks/R.framework/Resources/bin/R CMD INSTALL Seqinfo StartedAt: 2025-10-05 15:07:49 -0400 (Sun, 05 Oct 2025) EndedAt: 2025-10-05 15:07:53 -0400 (Sun, 05 Oct 2025) EllapsedTime: 4.0 seconds RetCode: 0 Status: OK