Package: Seqinfo Version: 0.99.2 Command: /Library/Frameworks/R.framework/Resources/bin/R CMD build --keep-empty-dirs --no-resave-data Seqinfo StartedAt: 2025-10-05 17:46:14 -0400 (Sun, 05 Oct 2025) EndedAt: 2025-10-05 17:46:25 -0400 (Sun, 05 Oct 2025) EllapsedTime: 11.1 seconds RetCode: 0 Status: OK PackageFile: Seqinfo_0.99.2.tar.gz PackageFileSize: 247.2 KiB