Package: Seqinfo Version: 0.99.2 Command: rm -rf Seqinfo.buildbin-libdir && mkdir Seqinfo.buildbin-libdir && /Users/biocbuild/BBS/utils/build-universal.sh Seqinfo_0.99.2.tar.gz /Library/Frameworks/R.framework/Resources/bin/R Seqinfo.buildbin-libdir StartedAt: 2025-10-05 22:59:23 -0400 (Sun, 05 Oct 2025) EndedAt: 2025-10-05 22:59:28 -0400 (Sun, 05 Oct 2025) EllapsedTime: 5.1 seconds RetCode: 0 Status: OK PackageFile: Seqinfo_0.99.2.tgz PackageFileSize: 625 KiB