Package: SeqVarTools Version: 1.47.0 Command: /home/biocbuild/R/R/bin/R CMD INSTALL SeqVarTools StartedAt: 2025-10-13 20:58:42 -0000 (Mon, 13 Oct 2025) EndedAt: 2025-10-13 20:59:10 -0000 (Mon, 13 Oct 2025) EllapsedTime: 27.2 seconds RetCode: 0 Status: OK