Package: SeqVarTools Version: 1.47.0 Command: /home/biocbuild/R/R/bin/R CMD build --keep-empty-dirs --no-resave-data SeqVarTools StartedAt: 2025-10-14 03:34:54 -0000 (Tue, 14 Oct 2025) EndedAt: 2025-10-14 03:35:54 -0000 (Tue, 14 Oct 2025) EllapsedTime: 60.0 seconds RetCode: 0 Status: OK PackageFile: SeqVarTools_1.47.0.tar.gz PackageFileSize: 991 KiB