Package: SeqVarTools Version: 1.47.0 Command: F:\biocbuild\bbs-3.22-bioc\R\bin\R.exe CMD INSTALL SeqVarTools StartedAt: 2025-08-14 15:53:19 -0400 (Thu, 14 Aug 2025) EndedAt: 2025-08-14 15:54:33 -0400 (Thu, 14 Aug 2025) EllapsedTime: 74.5 seconds RetCode: 0 Status: OK