Package: SeqVarTools Version: 1.47.0 Command: rm -rf SeqVarTools.buildbin-libdir && mkdir SeqVarTools.buildbin-libdir && F:\biocbuild\bbs-3.22-bioc\R\bin\R.exe CMD INSTALL --build --library=SeqVarTools.buildbin-libdir SeqVarTools_1.47.0.tar.gz StartedAt: 2025-08-15 11:18:31 -0400 (Fri, 15 Aug 2025) EndedAt: 2025-08-15 11:20:56 -0400 (Fri, 15 Aug 2025) EllapsedTime: 145.2 seconds RetCode: 0 Status: OK PackageFile: SeqVarTools_1.47.0.zip PackageFileSize: 1.442 MiB