Package: SeqVarTools Version: 1.49.0 Command: /home/biocbuild/bbs-3.23-bioc/R/bin/R CMD INSTALL SeqVarTools StartedAt: 2025-11-04 15:22:24 -0500 (Tue, 04 Nov 2025) EndedAt: 2025-11-04 15:22:44 -0500 (Tue, 04 Nov 2025) EllapsedTime: 20.7 seconds RetCode: 0 Status: OK