Package: SeqVarTools Version: 1.49.0 Command: /home/biocbuild/bbs-3.23-bioc/R/bin/R CMD build --keep-empty-dirs --no-resave-data SeqVarTools StartedAt: 2025-11-05 20:02:54 -0500 (Wed, 05 Nov 2025) EndedAt: 2025-11-05 20:03:42 -0500 (Wed, 05 Nov 2025) EllapsedTime: 48.0 seconds RetCode: 0 Status: OK PackageFile: SeqVarTools_1.49.0.tar.gz PackageFileSize: 1000 KiB