Package: SeqVarTools Version: 1.47.0 Command: /Library/Frameworks/R.framework/Resources/bin/R CMD build --keep-empty-dirs --no-resave-data SeqVarTools StartedAt: 2025-10-13 19:21:58 -0400 (Mon, 13 Oct 2025) EndedAt: 2025-10-13 19:23:03 -0400 (Mon, 13 Oct 2025) EllapsedTime: 65.0 seconds RetCode: 0 Status: OK PackageFile: SeqVarTools_1.47.0.tar.gz PackageFileSize: 1001 KiB