Package: SeqSQC Version: 1.31.0 Command: /home/biocbuild/R/R/bin/R CMD INSTALL SeqSQC StartedAt: 2025-10-16 21:40:41 -0000 (Thu, 16 Oct 2025) EndedAt: 2025-10-16 21:41:10 -0000 (Thu, 16 Oct 2025) EllapsedTime: 28.9 seconds RetCode: 0 Status: OK