Package: SeqSQC Version: 1.31.0 Command: /home/biocbuild/R/R/bin/R CMD build --keep-empty-dirs --no-resave-data SeqSQC StartedAt: 2025-10-14 03:34:50 -0000 (Tue, 14 Oct 2025) EndedAt: 2025-10-14 03:36:06 -0000 (Tue, 14 Oct 2025) EllapsedTime: 76.0 seconds RetCode: 0 Status: OK PackageFile: SeqSQC_1.31.0.tar.gz PackageFileSize: 4.94 MiB