Package: SeqSQC Version: 1.31.0 Command: /home/biocbuild/bbs-3.22-bioc/R/bin/R CMD check --install=check:SeqSQC.install-out.txt --library=/home/biocbuild/bbs-3.22-bioc/R/site-library --timings SeqSQC_1.31.0.tar.gz StartedAt: 2025-10-17 05:47:12 -0400 (Fri, 17 Oct 2025) EndedAt: 2025-10-17 05:50:43 -0400 (Fri, 17 Oct 2025) EllapsedTime: 211.2 seconds RetCode: 0 Status: WARNINGS CheckDir: SeqSQC.Rcheck Warnings: 1