Package: SeqSQC Version: 1.33.0 Command: /home/biocbuild/bbs-3.23-bioc/R/bin/R CMD INSTALL SeqSQC StartedAt: 2025-11-06 15:25:42 -0500 (Thu, 06 Nov 2025) EndedAt: 2025-11-06 15:26:03 -0500 (Thu, 06 Nov 2025) EllapsedTime: 20.8 seconds RetCode: 0 Status: OK