Package: SeqGate Version: 1.19.0 Command: /home/biocbuild/R/R/bin/R CMD INSTALL SeqGate StartedAt: 2025-10-13 20:52:34 -0000 (Mon, 13 Oct 2025) EndedAt: 2025-10-13 20:53:00 -0000 (Mon, 13 Oct 2025) EllapsedTime: 25.2 seconds RetCode: 0 Status: OK