Package: SeqGate Version: 1.19.0 Command: /home/biocbuild/R/R/bin/R CMD build --keep-empty-dirs --no-resave-data SeqGate StartedAt: 2025-10-14 03:34:14 -0000 (Tue, 14 Oct 2025) EndedAt: 2025-10-14 03:35:12 -0000 (Tue, 14 Oct 2025) EllapsedTime: 57.0 seconds RetCode: 0 Status: OK PackageFile: SeqGate_1.19.0.tar.gz PackageFileSize: 272.4 KiB