Package: SeqGate Version: 1.19.0 Command: /home/biocbuild/bbs-3.22-bioc/R/bin/R CMD check --install=check:SeqGate.install-out.txt --library=/home/biocbuild/bbs-3.22-bioc/R/site-library --timings SeqGate_1.19.0.tar.gz StartedAt: 2025-10-04 04:11:07 -0400 (Sat, 04 Oct 2025) EndedAt: 2025-10-04 04:13:54 -0400 (Sat, 04 Oct 2025) EllapsedTime: 167.2 seconds RetCode: 0 Status: OK CheckDir: SeqGate.Rcheck Warnings: 0