Package: SeqGate Version: 1.21.0 Command: /home/biocbuild/bbs-3.23-bioc/R/bin/R CMD INSTALL SeqGate StartedAt: 2025-11-05 15:24:30 -0500 (Wed, 05 Nov 2025) EndedAt: 2025-11-05 15:24:49 -0500 (Wed, 05 Nov 2025) EllapsedTime: 19.2 seconds RetCode: 0 Status: OK