Package: SeqGate Version: 1.21.0 Command: /home/biocbuild/bbs-3.23-bioc/R/bin/R CMD check --install=check:SeqGate.install-out.txt --library=/home/biocbuild/bbs-3.23-bioc/R/site-library --timings SeqGate_1.21.0.tar.gz StartedAt: 2025-11-08 03:52:21 -0500 (Sat, 08 Nov 2025) EndedAt: 2025-11-08 03:54:58 -0500 (Sat, 08 Nov 2025) EllapsedTime: 156.3 seconds RetCode: 0 Status: OK CheckDir: SeqGate.Rcheck Warnings: 0