Package: SeqGSEA Version: 1.51.0 Command: /home/biocbuild/bbs-3.23-bioc/R/bin/R CMD INSTALL SeqGSEA StartedAt: 2025-11-11 15:30:01 -0500 (Tue, 11 Nov 2025) EndedAt: 2025-11-11 15:30:34 -0500 (Tue, 11 Nov 2025) EllapsedTime: 33.5 seconds RetCode: 0 Status: OK